BEGIN:VCALENDAR
VERSION:2.0
PRODID:-//Tukios.com/
BEGIN:VEVENT
UID:e61048c5-01a1-4c05-b05a-4412bd4bab36@www.bayviewfuneral.com
DTSTAMP:20260420T204521Z
DTSTART:20260422T210000Z
DTEND:20260422T220000Z
SUMMARY:Visitation
DESCRIPTION:
URL:https://www.bayviewfuneral.com/obituaries/elliot-hollund
LOCATION:Bayview Freeborn Funeral Home 1415 Hwy 13 N  Albert Lea MN 56007
GEO:43.6617994;-93.3964727
END:VEVENT
END:VCALENDAR