BEGIN:VCALENDAR
VERSION:2.0
PRODID:-//Tukios.com/
BEGIN:VEVENT
UID:6fecf4aa-fd33-4d5e-980c-1abe39c91844@www.bayviewfuneral.com
DTSTAMP:20260420T204940Z
DTSTART:20260422T220000Z
DTEND:20260422T230000Z
SUMMARY:Memorial Service
DESCRIPTION:
URL:https://www.bayviewfuneral.com/obituaries/elliot-hollund
LOCATION:Bayview Freeborn Funeral Home 1415 Hwy 13 N  Albert Lea MN 56007
GEO:43.6617994;-93.3964727
END:VEVENT
END:VCALENDAR